BEGIN:VCALENDAR
VERSION:2.0
PRODID:-//Osvaldo Manuel Silvestre - ECPv4.6.9//NONSGML v1.0//EN
CALSCALE:GREGORIAN
METHOD:PUBLISH
X-WR-CALNAME:Osvaldo Manuel Silvestre
X-ORIGINAL-URL:http://www.osvaldomanuelsilvestre.com
X-WR-CALDESC:Events for Osvaldo Manuel Silvestre
BEGIN:VEVENT
DTSTART;TZID=UTC+0:20170424T140000
DTEND;TZID=UTC+0:20170424T170000
DTSTAMP:20260421T122918
CREATED:20170412T120610Z
LAST-MODIFIED:20170508T004854Z
UID:1137-1493042400-1493053200@www.osvaldomanuelsilvestre.com
SUMMARY:Arguente das provas de doutoramento de Manaíra Aires Athayde (FLUC)
DESCRIPTION:Título da tese: «Ruy Belo e o Modernismo Brasileiro» \nJúri: Manuel Portela (presidente)\, Clara Rowland e Joana Matos Frias (arguentes principais)\, José Carlos Seabra Pereira e Osvaldo Manuel Silvestre (arguentes)\, Pedro Serra (orientador) \nCurso: Programa de Doutoramento em Materialidades da Literatura \n
URL:http://www.osvaldomanuelsilvestre.com/event/vogal-e-arguente-das-provas-de-doutoramento-de-manaira-aires-athayde/
LOCATION:Pátio da Universidade 3004-545\, Coimbra\, Portugal
CATEGORIES:Provas de doutoramento
END:VEVENT
END:VCALENDAR