BEGIN:VCALENDAR
VERSION:2.0
PRODID:-//Osvaldo Manuel Silvestre - ECPv4.6.9//NONSGML v1.0//EN
CALSCALE:GREGORIAN
METHOD:PUBLISH
X-WR-CALNAME:Osvaldo Manuel Silvestre
X-ORIGINAL-URL:http://www.osvaldomanuelsilvestre.com
X-WR-CALDESC:Events for Osvaldo Manuel Silvestre
BEGIN:VEVENT
DTSTART;TZID=UTC+0:20170513T163000
DTEND;TZID=UTC+0:20170513T180000
DTSTAMP:20260420T213248
CREATED:20170412T122002Z
LAST-MODIFIED:20170413T085358Z
UID:1146-1494693000-1494698400@www.osvaldomanuelsilvestre.com
SUMMARY:Livros & Companhia: José Maria Vieira Mendes
DESCRIPTION:José Maria Vieira Mendes é dramaturgo\, estando o seu trabalho\, até ao momento\, associado à companhia Artistas Unidos e ao coletivo Teatro Praga. Uma primeira reunião da sua escrita teatral foi publicada em 2008\, sob o título Teatro\, nos Livros Cotovia\, editora que publicou\, em 2016\, uma segunda reunião de peças\, escritas entre 2010 e 2015\, intitulada Uma Coisa. O seu trabalho inclui ainda Ana (2009) e Hedda (2010)\, a partir de “Hedda Gabler”\, de Ibsen\, ambos publicados na coleção Livrinhos de Teatro (Cotovia e Artistas Unidos). Foi um dos organizadores da edição do teatro de Bertolt Brecht nos Livros Cotovia. As suas peças foram traduzidas para várias línguas e encenadas em vários países. Fez ainda diálogos para cinema. O seu trabalho foi distinguido com vários prémios\, em Portugal e no Brasil. A sua publicação mais recente é o ensaio Uma coisa não é outra coisa. Teatro e Literatura (2016). \n  \n \n  \nLivros & Companhia é uma conversa sobre livros. Não necessariamente sobre livros recentes\, procurando extrair deles aquilo que pode ajudar a tornar a nossa vida mais intensa e\, ao mesmo tempo\, a refletir sobre a dificuldade (mas também a necessidade) que temos em verbalizar experiências marcantes e mesmo formativas. Com especial incidência em livros sobre música\, cinema\, literatura ou outras artes e disciplinas\, sem entender a leitura como um dever\, Livros & Companhia explorará formas de pensar aquilo que nos faz contemporâneos do presente ou do passado. No Salão Brazil\, uma vez por mês\, com um convidado por sessão. \n
URL:http://www.osvaldomanuelsilvestre.com/event/livros-companhia-jose-maria-vieira-mendes/
LOCATION:Largo do Poço\,3\, 1º andar\, 3000-335\, Coimbra\, Portugal
CATEGORIES:Livros & Companhia
END:VEVENT
END:VCALENDAR