BEGIN:VCALENDAR
VERSION:2.0
PRODID:-//Osvaldo Manuel Silvestre - ECPv4.6.9//NONSGML v1.0//EN
CALSCALE:GREGORIAN
METHOD:PUBLISH
X-WR-CALNAME:Osvaldo Manuel Silvestre
X-ORIGINAL-URL:http://www.osvaldomanuelsilvestre.com
X-WR-CALDESC:Events for Osvaldo Manuel Silvestre
BEGIN:VEVENT
DTSTART;VALUE=DATE:20191030
DTEND;VALUE=DATE:20191031
DTSTAMP:20260419T190445
CREATED:20191001T221102Z
LAST-MODIFIED:20191001T221529Z
UID:2872-1572393600-1572479999@www.osvaldomanuelsilvestre.com
SUMMARY:Jornada de Estudos Haroldo de Campos
DESCRIPTION:Comunicação intitulada “A ‘tradição ideogrâmica’ em Haroldo de Campos: uma revisitação”. \n
URL:http://www.osvaldomanuelsilvestre.com/event/jornada-de-estudos-haroldo-de-campos/
CATEGORIES:Colóquio
ATTACH;FMTTYPE=image/jpeg:http://www.osvaldomanuelsilvestre.com/wp-content/uploads/2019/10/2019_ROSE_Jornada_plakat_A3_1.10-cópia-e1569967838118.jpg
END:VEVENT
END:VCALENDAR