BEGIN:VCALENDAR
VERSION:2.0
PRODID:-//Osvaldo Manuel Silvestre - ECPv4.6.9//NONSGML v1.0//EN
CALSCALE:GREGORIAN
METHOD:PUBLISH
X-WR-CALNAME:Osvaldo Manuel Silvestre
X-ORIGINAL-URL:http://www.osvaldomanuelsilvestre.com
X-WR-CALDESC:Events for Osvaldo Manuel Silvestre
BEGIN:VEVENT
DTSTART;TZID=UTC+0:20191219T170000
DTEND;TZID=UTC+0:20191219T180000
DTSTAMP:20260419T190042
CREATED:20191213T225255Z
LAST-MODIFIED:20191213T225255Z
UID:2887-1576774800-1576778400@www.osvaldomanuelsilvestre.com
SUMMARY:Conversa com livros: "Grande Sertão: Veredas"
DESCRIPTION:
URL:http://www.osvaldomanuelsilvestre.com/event/conversa-com-livros-grande-sertao-veredas/
CATEGORIES:Lançamento
ATTACH;FMTTYPE=image/png:http://www.osvaldomanuelsilvestre.com/wp-content/uploads/2019/12/Guimaraes-Rosa.png
END:VEVENT
END:VCALENDAR